BEGIN:VCALENDAR
VERSION:2.0
PRODID:icalendar-ruby
CALSCALE:GREGORIAN
BEGIN:VEVENT
DTSTAMP:20260420T114101Z
UID:11312882-f97c-4ca7-907a-8dfa85f5a22f
DTSTART;VALUE=DATE:20210410
DESCRIPTION:Property ID# 497572\, Locatoin: On Site\, Time: 12:00PM
SUMMARY:Auction for 
END:VEVENT
END:VCALENDAR
